BEGIN:VCALENDAR
VERSION:2.0
PRODID:-//Gemeinschaftsgrundschule Biesfeld - ECPv4.9.2//NONSGML v1.0//EN
CALSCALE:GREGORIAN
METHOD:PUBLISH
X-WR-CALNAME:Gemeinschaftsgrundschule Biesfeld
X-ORIGINAL-URL:http://ggs-biesfeld.de
X-WR-CALDESC:Veranstaltungen im Gemeinschaftsgrundschule Biesfeld
BEGIN:VEVENT
DTSTART;VALUE=DATE:20241007
DTEND;VALUE=DATE:20241009
DTSTAMP:20260421T011127
CREATED:20240930T072728Z
LAST-MODIFIED:20240930T072728Z
UID:3472-1728259200-1728431999@ggs-biesfeld.de
SUMMARY:Wissenswertes rund um die Zahnpflege 🦷 für die Klassen 1/2 im Rahmen des Unterrichts (Gesundheitsamt)
DESCRIPTION:
URL:http://ggs-biesfeld.de/veranstaltung/wissenswertes-rund-um-die-zahnpflege-%f0%9f%a6%b7-fuer-die-klassen-1-2-im-rahmen-des-unterrichts-gesundheitsamt/
END:VEVENT
END:VCALENDAR