BEGIN:VCALENDAR
VERSION:2.0
PRODID:-//Gemeinschaftsgrundschule Biesfeld - ECPv4.9.2//NONSGML v1.0//EN
CALSCALE:GREGORIAN
METHOD:PUBLISH
X-WR-CALNAME:Gemeinschaftsgrundschule Biesfeld
X-ORIGINAL-URL:http://ggs-biesfeld.de
X-WR-CALDESC:Veranstaltungen im Gemeinschaftsgrundschule Biesfeld
BEGIN:VEVENT
DTSTART;VALUE=DATE:20220224
DTEND;VALUE=DATE:20220225
DTSTAMP:20260423T170929
CREATED:20220214T112048Z
LAST-MODIFIED:20220214T113836Z
UID:2259-1645660800-1645747199@ggs-biesfeld.de
SUMMARY:Weiberfastnacht in der Schule 🤡
DESCRIPTION:
URL:http://ggs-biesfeld.de/veranstaltung/weiberfastnacht-in-der-schule/
CATEGORIES:Feste & Feiern,Unterricht
END:VEVENT
END:VCALENDAR