BEGIN:VCALENDAR
VERSION:2.0
PRODID:-//Gemeinschaftsgrundschule Biesfeld - ECPv4.9.2//NONSGML v1.0//EN
CALSCALE:GREGORIAN
METHOD:PUBLISH
X-WR-CALNAME:Gemeinschaftsgrundschule Biesfeld
X-ORIGINAL-URL:http://ggs-biesfeld.de
X-WR-CALDESC:Veranstaltungen im Gemeinschaftsgrundschule Biesfeld
BEGIN:VEVENT
DTSTART;VALUE=DATE:20240918
DTEND;VALUE=DATE:20240919
DTSTAMP:20260420T203358
CREATED:20240828T082147Z
LAST-MODIFIED:20240828T082147Z
UID:3433-1726617600-1726703999@ggs-biesfeld.de
SUMMARY:unterrichtsfrei wegen schulinterner Lehrer*innenfortbildung
DESCRIPTION:DruckenDie OGS hat ab 7.30 Uhr geöffnet. \n
URL:http://ggs-biesfeld.de/veranstaltung/unterrichtsfrei-wegen-schulinterner-lehrerinnenfortbildung/
CATEGORIES:unterrichtsfreie Tage
END:VEVENT
END:VCALENDAR