BEGIN:VCALENDAR
VERSION:2.0
PRODID:-//Gemeinschaftsgrundschule Biesfeld - ECPv4.9.2//NONSGML v1.0//EN
CALSCALE:GREGORIAN
METHOD:PUBLISH
X-WR-CALNAME:Gemeinschaftsgrundschule Biesfeld
X-ORIGINAL-URL:http://ggs-biesfeld.de
X-WR-CALDESC:Veranstaltungen im Gemeinschaftsgrundschule Biesfeld
BEGIN:VEVENT
DTSTART;VALUE=DATE:20211209
DTEND;VALUE=DATE:20211210
DTSTAMP:20260423T131321
CREATED:20211207T092747Z
LAST-MODIFIED:20211207T092747Z
UID:2225-1639008000-1639094399@ggs-biesfeld.de
SUMMARY:unterrichtsfrei wegen Lehrer*innenfortbildung
DESCRIPTION:DruckenOGS geöffnet \n
URL:http://ggs-biesfeld.de/veranstaltung/unterrichtsfrei-wegen-lehrerinnenfortbildung/
CATEGORIES:unterrichtsfreie Tage
END:VEVENT
END:VCALENDAR