BEGIN:VCALENDAR
VERSION:2.0
PRODID:-//Gemeinschaftsgrundschule Biesfeld - ECPv4.9.2//NONSGML v1.0//EN
CALSCALE:GREGORIAN
METHOD:PUBLISH
X-WR-CALNAME:Gemeinschaftsgrundschule Biesfeld
X-ORIGINAL-URL:http://ggs-biesfeld.de
X-WR-CALDESC:Veranstaltungen im Gemeinschaftsgrundschule Biesfeld
BEGIN:VEVENT
DTSTART;VALUE=DATE:20241003
DTEND;VALUE=DATE:20241004
DTSTAMP:20260420T234757
CREATED:20240930T072544Z
LAST-MODIFIED:20240930T072544Z
UID:3469-1727913600-1727999999@ggs-biesfeld.de
SUMMARY:unterrichtsfrei - Tag der deutschen Einheit
DESCRIPTION:
URL:http://ggs-biesfeld.de/veranstaltung/unterrichtsfrei-tag-der-deutschen-einheit/
CATEGORIES:unterrichtsfreie Tage
END:VEVENT
END:VCALENDAR