BEGIN:VCALENDAR
VERSION:2.0
PRODID:-//Gemeinschaftsgrundschule Biesfeld - ECPv4.9.2//NONSGML v1.0//EN
CALSCALE:GREGORIAN
METHOD:PUBLISH
X-WR-CALNAME:Gemeinschaftsgrundschule Biesfeld
X-ORIGINAL-URL:http://ggs-biesfeld.de
X-WR-CALDESC:Veranstaltungen im Gemeinschaftsgrundschule Biesfeld
BEGIN:VEVENT
DTSTART;TZID=UTC+2:20240615T090000
DTEND;TZID=UTC+2:20240615T110000
DTSTAMP:20260420T203516
CREATED:20240605T093428Z
LAST-MODIFIED:20240605T093428Z
UID:3373-1718442000-1718449200@ggs-biesfeld.de
SUMMARY:Tag der offenen Tür (bitte anmelden!)
DESCRIPTION:DruckenBitte melden Sie sich an unter 02207/910577! \n
URL:http://ggs-biesfeld.de/veranstaltung/tag-der-offenen-tuer-bitte-anmelden/
END:VEVENT
END:VCALENDAR