BEGIN:VCALENDAR
VERSION:2.0
PRODID:-//Gemeinschaftsgrundschule Biesfeld - ECPv4.9.2//NONSGML v1.0//EN
CALSCALE:GREGORIAN
METHOD:PUBLISH
X-WR-CALNAME:Gemeinschaftsgrundschule Biesfeld
X-ORIGINAL-URL:http://ggs-biesfeld.de
X-WR-CALDESC:Veranstaltungen im Gemeinschaftsgrundschule Biesfeld
BEGIN:VEVENT
DTSTART;TZID=UTC+2:20220610T081500
DTEND;TZID=UTC+2:20220610T114500
DTSTAMP:20260423T150310
CREATED:20220531T090411Z
LAST-MODIFIED:20220531T090411Z
UID:2775-1654848900-1654861500@ggs-biesfeld.de
SUMMARY:Sportfest
DESCRIPTION:DruckenDas Sportfest findet während der Unterrichtszeit auf dem Sportplatz in Kürten statt. Dazu erhalten die Eltern gesonderte Informationen.  \n
URL:http://ggs-biesfeld.de/veranstaltung/sportfest-2/
CATEGORIES:Unterricht
END:VEVENT
END:VCALENDAR