BEGIN:VCALENDAR
VERSION:2.0
PRODID:-//Gemeinschaftsgrundschule Biesfeld - ECPv4.9.2//NONSGML v1.0//EN
CALSCALE:GREGORIAN
METHOD:PUBLISH
X-WR-CALNAME:Gemeinschaftsgrundschule Biesfeld
X-ORIGINAL-URL:http://ggs-biesfeld.de
X-WR-CALDESC:Veranstaltungen im Gemeinschaftsgrundschule Biesfeld
BEGIN:VEVENT
DTSTART;VALUE=DATE:20240704
DTEND;VALUE=DATE:20240705
DTSTAMP:20260420T174156
CREATED:20240627T094055Z
LAST-MODIFIED:20240627T094055Z
UID:3399-1720051200-1720137599@ggs-biesfeld.de
SUMMARY:Sport - und Spielefest⚽️🤸‍♂️👟
DESCRIPTION:
URL:http://ggs-biesfeld.de/veranstaltung/sport-und-spielefest%e2%9a%bd%ef%b8%8f%f0%9f%a4%b8%e2%80%8d%e2%99%82%ef%b8%8f%f0%9f%91%9f/
CATEGORIES:Feste & Feiern,Unterricht
END:VEVENT
END:VCALENDAR