BEGIN:VCALENDAR
VERSION:2.0
PRODID:-//Gemeinschaftsgrundschule Biesfeld - ECPv4.9.2//NONSGML v1.0//EN
CALSCALE:GREGORIAN
METHOD:PUBLISH
X-WR-CALNAME:Gemeinschaftsgrundschule Biesfeld
X-ORIGINAL-URL:http://ggs-biesfeld.de
X-WR-CALDESC:Veranstaltungen im Gemeinschaftsgrundschule Biesfeld
BEGIN:VEVENT
DTSTART;TZID=UTC+2:20241001T190000
DTEND;TZID=UTC+2:20241001T210000
DTSTAMP:20260420T221300
CREATED:20240930T072504Z
LAST-MODIFIED:20240930T072504Z
UID:3466-1727809200-1727816400@ggs-biesfeld.de
SUMMARY:Schulpflegschaftssitzung
DESCRIPTION:
URL:http://ggs-biesfeld.de/veranstaltung/schulpflegschaftssitzung-8/
LOCATION:GGS Biesfeld\, Neuensaaler Str. 4\, 51515 Kürten
CATEGORIES:Schulmitwirkung
END:VEVENT
END:VCALENDAR