BEGIN:VCALENDAR
VERSION:2.0
PRODID:-//Gemeinschaftsgrundschule Biesfeld - ECPv4.9.2//NONSGML v1.0//EN
CALSCALE:GREGORIAN
METHOD:PUBLISH
X-WR-CALNAME:Gemeinschaftsgrundschule Biesfeld
X-ORIGINAL-URL:http://ggs-biesfeld.de
X-WR-CALDESC:Veranstaltungen im Gemeinschaftsgrundschule Biesfeld
BEGIN:VEVENT
DTSTART;TZID=UTC+2:20241010T190000
DTEND;TZID=UTC+2:20241010T203000
DTSTAMP:20260421T011453
CREATED:20240930T072859Z
LAST-MODIFIED:20240930T072859Z
UID:3478-1728586800-1728592200@ggs-biesfeld.de
SUMMARY:Schulkonferenz
DESCRIPTION:
URL:http://ggs-biesfeld.de/veranstaltung/schulkonferenz-12/
CATEGORIES:Schulmitwirkung
END:VEVENT
END:VCALENDAR