BEGIN:VCALENDAR
VERSION:2.0
PRODID:-//Gemeinschaftsgrundschule Biesfeld - ECPv4.9.2//NONSGML v1.0//EN
CALSCALE:GREGORIAN
METHOD:PUBLISH
X-WR-CALNAME:Gemeinschaftsgrundschule Biesfeld
X-ORIGINAL-URL:http://ggs-biesfeld.de
X-WR-CALDESC:Veranstaltungen im Gemeinschaftsgrundschule Biesfeld
BEGIN:VEVENT
DTSTART;VALUE=DATE:20230519
DTEND;VALUE=DATE:20230520
DTSTAMP:20260420T233336
CREATED:20230420T085210Z
LAST-MODIFIED:20230420T085210Z
UID:3169-1684454400-1684540799@ggs-biesfeld.de
SUMMARY:schulfrei
DESCRIPTION:DruckenKompensationstag für den Tag der offenen Tür \n
URL:http://ggs-biesfeld.de/veranstaltung/schulfrei/
CATEGORIES:unterrichtsfreie Tage
END:VEVENT
END:VCALENDAR