BEGIN:VCALENDAR
VERSION:2.0
PRODID:-//Gemeinschaftsgrundschule Biesfeld - ECPv4.9.2//NONSGML v1.0//EN
CALSCALE:GREGORIAN
METHOD:PUBLISH
X-WR-CALNAME:Gemeinschaftsgrundschule Biesfeld
X-ORIGINAL-URL:http://ggs-biesfeld.de
X-WR-CALDESC:Veranstaltungen im Gemeinschaftsgrundschule Biesfeld
BEGIN:VEVENT
DTSTART;TZID=UTC+2:20240615T110000
DTEND;TZID=UTC+2:20240615T143000
DTSTAMP:20260420T191033
CREATED:20240605T093516Z
LAST-MODIFIED:20240605T093516Z
UID:3376-1718449200-1718461800@ggs-biesfeld.de
SUMMARY:Schulfest "Reise um die Welt"
DESCRIPTION:
URL:http://ggs-biesfeld.de/veranstaltung/schulfest-reise-um-die-welt/
CATEGORIES:Feste & Feiern
END:VEVENT
END:VCALENDAR