BEGIN:VCALENDAR
VERSION:2.0
PRODID:-//Gemeinschaftsgrundschule Biesfeld - ECPv4.9.2//NONSGML v1.0//EN
CALSCALE:GREGORIAN
METHOD:PUBLISH
X-WR-CALNAME:Gemeinschaftsgrundschule Biesfeld
X-ORIGINAL-URL:http://ggs-biesfeld.de
X-WR-CALDESC:Veranstaltungen im Gemeinschaftsgrundschule Biesfeld
BEGIN:VEVENT
DTSTART;VALUE=DATE:20250522
DTEND;VALUE=DATE:20250523
DTSTAMP:20260421T133312
CREATED:20250520T064427Z
LAST-MODIFIED:20250520T064427Z
UID:3678-1747872000-1747958399@ggs-biesfeld.de
SUMMARY:Pädagogischer Ganztag - unterrichtsfrei - OGS geöffnet
DESCRIPTION:
URL:http://ggs-biesfeld.de/veranstaltung/paedagogischer-ganztag-unterrichtsfrei-ogs-geoeffnet/
CATEGORIES:unterrichtsfreie Tage
END:VEVENT
END:VCALENDAR