BEGIN:VCALENDAR
VERSION:2.0
PRODID:-//Gemeinschaftsgrundschule Biesfeld - ECPv4.9.2//NONSGML v1.0//EN
CALSCALE:GREGORIAN
METHOD:PUBLISH
X-WR-CALNAME:Gemeinschaftsgrundschule Biesfeld
X-ORIGINAL-URL:http://ggs-biesfeld.de
X-WR-CALDESC:Veranstaltungen im Gemeinschaftsgrundschule Biesfeld
BEGIN:VEVENT
DTSTART;VALUE=DATE:20220411
DTEND;VALUE=DATE:20220423
DTSTAMP:20260423T143223
CREATED:20220214T113325Z
LAST-MODIFIED:20220214T113614Z
UID:2274-1649635200-1650671999@ggs-biesfeld.de
SUMMARY:Osterferien 🐣🐇
DESCRIPTION:
URL:http://ggs-biesfeld.de/veranstaltung/osterferien-5/
CATEGORIES:unterrichtsfreie Tage
END:VEVENT
END:VCALENDAR