BEGIN:VCALENDAR
VERSION:2.0
PRODID:-//Gemeinschaftsgrundschule Biesfeld - ECPv4.9.2//NONSGML v1.0//EN
CALSCALE:GREGORIAN
METHOD:PUBLISH
X-WR-CALNAME:Gemeinschaftsgrundschule Biesfeld
X-ORIGINAL-URL:http://ggs-biesfeld.de
X-WR-CALDESC:Veranstaltungen im Gemeinschaftsgrundschule Biesfeld
BEGIN:VEVENT
DTSTART;VALUE=DATE:20221109
DTEND;VALUE=DATE:20221110
DTSTAMP:20260421T083713
CREATED:20221107T104514Z
LAST-MODIFIED:20221107T104935Z
UID:2940-1667952000-1668038399@ggs-biesfeld.de
SUMMARY:OGS geschlossen wegen Konzeptionstag - es findet keine Betreuung statt-
DESCRIPTION:
URL:http://ggs-biesfeld.de/veranstaltung/ogs-geschlossen-wegen-konzeptionstag-es-findet-keine-betreuung-statt/
CATEGORIES:Unterricht
END:VEVENT
END:VCALENDAR