BEGIN:VCALENDAR
VERSION:2.0
PRODID:-//Gemeinschaftsgrundschule Biesfeld - ECPv4.9.2//NONSGML v1.0//EN
CALSCALE:GREGORIAN
METHOD:PUBLISH
X-WR-CALNAME:Gemeinschaftsgrundschule Biesfeld
X-ORIGINAL-URL:http://ggs-biesfeld.de
X-WR-CALDESC:Veranstaltungen im Gemeinschaftsgrundschule Biesfeld
BEGIN:VEVENT
DTSTART;VALUE=DATE:20221110
DTEND;VALUE=DATE:20221111
DTSTAMP:20260423T090419
CREATED:20221107T094122Z
LAST-MODIFIED:20221107T094122Z
UID:2937-1668038400-1668124799@ggs-biesfeld.de
SUMMARY:Mitmach Hörspiel "Der Kinderfresser" von und mit Klaus Strenge
DESCRIPTION:DruckenHeute haben die 3a und die 3b ausnahmsweise mal bis 13.30 Uhr Schule!!! \n  \nwww.der-kinderfresser.de \n  \n  \n
URL:http://ggs-biesfeld.de/veranstaltung/mitmach-hoerspiel-der-kinderfresser-von-und-mit-klaus-strenge/
CATEGORIES:Unterricht
END:VEVENT
END:VCALENDAR