BEGIN:VCALENDAR
VERSION:2.0
PRODID:-//Gemeinschaftsgrundschule Biesfeld - ECPv4.9.2//NONSGML v1.0//EN
CALSCALE:GREGORIAN
METHOD:PUBLISH
X-WR-CALNAME:Gemeinschaftsgrundschule Biesfeld
X-ORIGINAL-URL:http://ggs-biesfeld.de
X-WR-CALDESC:Veranstaltungen im Gemeinschaftsgrundschule Biesfeld
BEGIN:VEVENT
DTSTART;VALUE=DATE:20220516
DTEND;VALUE=DATE:20220521
DTSTAMP:20260423T131704
CREATED:20220331T104637Z
LAST-MODIFIED:20220331T104637Z
UID:2489-1652659200-1653091199@ggs-biesfeld.de
SUMMARY:Manege frei! Zirkuswoche 🎪
DESCRIPTION:
URL:http://ggs-biesfeld.de/veranstaltung/manege-frei-zirkuswoche-%f0%9f%8e%aa/
CATEGORIES:Feste & Feiern,Unterricht
END:VEVENT
END:VCALENDAR