BEGIN:VCALENDAR
VERSION:2.0
PRODID:-//Gemeinschaftsgrundschule Biesfeld - ECPv4.9.2//NONSGML v1.0//EN
CALSCALE:GREGORIAN
METHOD:PUBLISH
X-WR-CALNAME:Gemeinschaftsgrundschule Biesfeld
X-ORIGINAL-URL:http://ggs-biesfeld.de
X-WR-CALDESC:Veranstaltungen im Gemeinschaftsgrundschule Biesfeld
BEGIN:VEVENT
DTSTART;VALUE=DATE:20211108
DTEND;VALUE=DATE:20211109
DTSTAMP:20260423T142854
CREATED:20211025T111418Z
LAST-MODIFIED:20211025T111852Z
UID:2196-1636329600-1636415999@ggs-biesfeld.de
SUMMARY:Konzeptionstag OGS - OGS geschlossen -
DESCRIPTION:
URL:http://ggs-biesfeld.de/veranstaltung/konzeptionstag-ogs-ogs-geschlossen/
END:VEVENT
END:VCALENDAR