BEGIN:VCALENDAR
VERSION:2.0
PRODID:-//Gemeinschaftsgrundschule Biesfeld - ECPv4.9.2//NONSGML v1.0//EN
CALSCALE:GREGORIAN
METHOD:PUBLISH
X-WR-CALNAME:Gemeinschaftsgrundschule Biesfeld
X-ORIGINAL-URL:http://ggs-biesfeld.de
X-WR-CALDESC:Veranstaltungen im Gemeinschaftsgrundschule Biesfeld
BEGIN:VEVENT
DTSTART;VALUE=DATE:20220527
DTEND;VALUE=DATE:20220528
DTSTAMP:20260423T143524
CREATED:20220214T113945Z
LAST-MODIFIED:20220214T113946Z
UID:2282-1653609600-1653695999@ggs-biesfeld.de
SUMMARY:Kompensationstag für den Tag der offenen Tür -unterrichtsfrei-
DESCRIPTION:
URL:http://ggs-biesfeld.de/veranstaltung/kompensationstag-fuer-den-tag-der-offenen-tuer-unterrichtsfrei/
END:VEVENT
END:VCALENDAR