BEGIN:VCALENDAR
VERSION:2.0
PRODID:-//Gemeinschaftsgrundschule Biesfeld - ECPv4.9.2//NONSGML v1.0//EN
CALSCALE:GREGORIAN
METHOD:PUBLISH
X-WR-CALNAME:Gemeinschaftsgrundschule Biesfeld
X-ORIGINAL-URL:http://ggs-biesfeld.de
X-WR-CALDESC:Veranstaltungen im Gemeinschaftsgrundschule Biesfeld
BEGIN:VEVENT
DTSTART;TZID=UTC+2:20230509T190000
DTEND;TZID=UTC+2:20230509T203000
DTSTAMP:20260420T233417
CREATED:20230424T113523Z
LAST-MODIFIED:20230424T113523Z
UID:3180-1683658800-1683664200@ggs-biesfeld.de
SUMMARY:Infoabend zur Einschulung 2024
DESCRIPTION:DruckenInfoabend\n„Schulstart 2024“\nan der GGS Biesfeld\nWas?\nSo lernen die Kinder in Biesfeld\nWann?\nDienstag\, der 9. Mai 2023 um 19.00 Uhr\nSamstag\, der 13. Mai 2023:\nTag der offenen Tür\nvon 9 Uhr bis 11.45 Uhr\nWer? Wie?\nEingeladen sind interessierte Eltern.\nBitte melden Sie sich telefonisch oder per Mail an.\nWo?\nIn der Aula der GGS Biesfeld\nNeuensaaler Str.4\, 51515 Kürten \n
URL:http://ggs-biesfeld.de/veranstaltung/infoabend-zur-einschulung-2024/
CATEGORIES:Info-Veranstaltungen
END:VEVENT
END:VCALENDAR