BEGIN:VCALENDAR
VERSION:2.0
PRODID:-//Gemeinschaftsgrundschule Biesfeld - ECPv4.9.2//NONSGML v1.0//EN
CALSCALE:GREGORIAN
METHOD:PUBLISH
X-WR-CALNAME:Gemeinschaftsgrundschule Biesfeld
X-ORIGINAL-URL:http://ggs-biesfeld.de
X-WR-CALDESC:Veranstaltungen im Gemeinschaftsgrundschule Biesfeld
BEGIN:VEVENT
DTSTART;TZID=UTC+2:20210428T180000
DTEND;TZID=UTC+2:20210428T193000
DTSTAMP:20260423T200702
CREATED:20210423T111030Z
LAST-MODIFIED:20210423T111030Z
UID:2100-1619632800-1619638200@ggs-biesfeld.de
SUMMARY:Infoabend für unsere Schulanfänger 2021 - digital
DESCRIPTION:DruckenDer Infoabend findet heute für alle mit den Anfangsbuchstaben A bis K (Nachnamen) statt. Den Link für die Videokonferenz haben Sie per Mail erhalten. \n
URL:http://ggs-biesfeld.de/veranstaltung/infoabend-fuer-unsere-schulanfaenger-2021-digital/
LOCATION:GGS Biesfeld\, Neuensaaler Str. 4\, 51515 Kürten
CATEGORIES:Info-Veranstaltungen
END:VEVENT
END:VCALENDAR