BEGIN:VCALENDAR
VERSION:2.0
PRODID:-//Gemeinschaftsgrundschule Biesfeld - ECPv4.9.2//NONSGML v1.0//EN
CALSCALE:GREGORIAN
METHOD:PUBLISH
X-WR-CALNAME:Gemeinschaftsgrundschule Biesfeld
X-ORIGINAL-URL:http://ggs-biesfeld.de
X-WR-CALDESC:Veranstaltungen im Gemeinschaftsgrundschule Biesfeld
BEGIN:VEVENT
DTSTART;TZID=UTC+2:20230316T190000
DTEND;TZID=UTC+2:20230316T203000
DTSTAMP:20260421T052736
CREATED:20230307T093337Z
LAST-MODIFIED:20230307T093337Z
UID:3119-1678993200-1678998600@ggs-biesfeld.de
SUMMARY:Elternabend "Konfliktprävention"
DESCRIPTION:
URL:http://ggs-biesfeld.de/veranstaltung/elternabend-konfliktpraevention/
CATEGORIES:Info-Veranstaltungen
END:VEVENT
END:VCALENDAR