BEGIN:VCALENDAR
VERSION:2.0
PRODID:-//Gemeinschaftsgrundschule Biesfeld - ECPv4.9.2//NONSGML v1.0//EN
CALSCALE:GREGORIAN
METHOD:PUBLISH
X-WR-CALNAME:Gemeinschaftsgrundschule Biesfeld
X-ORIGINAL-URL:http://ggs-biesfeld.de
X-WR-CALDESC:Veranstaltungen im Gemeinschaftsgrundschule Biesfeld
BEGIN:VEVENT
DTSTART;VALUE=DATE:20220516
DTEND;VALUE=DATE:20220517
DTSTAMP:20260423T114754
CREATED:20211025T125158Z
LAST-MODIFIED:20211025T125158Z
UID:2213-1652659200-1652745599@ggs-biesfeld.de
SUMMARY:Betriebsausflug OGS - OGS geschlossen -
DESCRIPTION:
URL:http://ggs-biesfeld.de/veranstaltung/betriebsausflug-ogs-ogs-geschlossen/
END:VEVENT
END:VCALENDAR