BEGIN:VCALENDAR
VERSION:2.0
PRODID:-//Gemeinschaftsgrundschule Biesfeld - ECPv4.9.2//NONSGML v1.0//EN
CALSCALE:GREGORIAN
METHOD:PUBLISH
X-WR-CALNAME:Gemeinschaftsgrundschule Biesfeld
X-ORIGINAL-URL:http://ggs-biesfeld.de
X-WR-CALDESC:Veranstaltungen im Gemeinschaftsgrundschule Biesfeld
BEGIN:VEVENT
DTSTART;TZID=UTC+2:20240705T090000
DTEND;TZID=UTC+2:20240707T110000
DTSTAMP:20260420T190915
CREATED:20240703T084102Z
LAST-MODIFIED:20240704T083255Z
UID:3414-1720170000-1720350000@ggs-biesfeld.de
SUMMARY:Zeugnisausgabe und Abschlussfest für unsere Viertklässler*innen
DESCRIPTION:DruckenDie Eltern sind herzlich willkommen! \nDer Unterricht endet heute um 11.00 Uhr. \n
URL:http://ggs-biesfeld.de/veranstaltung/abschlussfest-fuer-unsere-viertklaesslerinnen/
CATEGORIES:Feste & Feiern
END:VEVENT
END:VCALENDAR